BEGIN:VCALENDAR
VERSION:2.0
PRODID:-//wp-events-plugin.com//7.1.7//EN
TZID:Europe/London
X-WR-TIMEZONE:Europe/London
BEGIN:VEVENT
UID:43@rdcc.org.uk
DTSTART;TZID=Europe/London:20260427T193000
DTEND;TZID=Europe/London:20260427T213000
DTSTAMP:20260205T202729Z
URL:https://rdcc.org.uk/events/club-night-8/
SUMMARY:Club Night
DESCRIPTION:
LOCATION:Piston Club @ The Stag\, Alcester Road \, Redhill\, B49 6NQ\, Unit
 ed Kingdom
X-APPLE-STRUCTURED-LOCATION;VALUE=URI;X-ADDRESS=Alcester Road \, Redhill\, 
 B49 6NQ\, United Kingdom;X-APPLE-RADIUS=100;X-TITLE=Piston Club @ The Stag
 :geo:0,0
END:VEVENT
BEGIN:VTIMEZONE
TZID:Europe/London
X-LIC-LOCATION:Europe/London
BEGIN:DAYLIGHT
DTSTART:20260329T020000
TZOFFSETFROM:+0000
TZOFFSETTO:+0100
TZNAME:BST
END:DAYLIGHT
END:VTIMEZONE
END:VCALENDAR