BEGIN:VCALENDAR
VERSION:2.0
PRODID:-//wp-events-plugin.com//7.1.7//EN
TZID:Europe/London
X-WR-TIMEZONE:Europe/London
BEGIN:VEVENT
UID:37@rdcc.org.uk
DTSTART;TZID=Europe/London;VALUE=DATE:20260426
DTEND;TZID=Europe/London;VALUE=DATE:20260427
DTSTAMP:20260206T200619Z
URL:https://rdcc.org.uk/events/lavender-run/
SUMMARY:Lavender Run
DESCRIPTION:Please see The Lavender Run page for more information
ATTACH;FMTTYPE=image/jpeg:https://rdcc.org.uk/wp-content/uploads/2026/02/L
 avender-Run-plate.jpg
LOCATION:Stratford Garden Centre\, Campden Road\, Stratford upon Avon\, CV3
 7 8LW\, United Kingdom
X-APPLE-STRUCTURED-LOCATION;VALUE=URI;X-ADDRESS=Campden Road\, Stratford up
 on Avon\, CV37 8LW\, United Kingdom;X-APPLE-RADIUS=100;X-TITLE=Stratford G
 arden Centre:geo:0,0
END:VEVENT
BEGIN:VTIMEZONE
TZID:Europe/London
X-LIC-LOCATION:Europe/London
BEGIN:DAYLIGHT
DTSTART:20260329T020000
TZOFFSETFROM:+0000
TZOFFSETTO:+0100
TZNAME:BST
END:DAYLIGHT
END:VTIMEZONE
END:VCALENDAR